BEGIN:VCALENDAR
VERSION:2.0
PRODID:-//Mixed Media Art | Sascha Westendorp - ECPv6.15.20//NONSGML v1.0//EN
CALSCALE:GREGORIAN
METHOD:PUBLISH
X-ORIGINAL-URL:https://westendorp.com
X-WR-CALDESC:Events for Mixed Media Art | Sascha Westendorp
REFRESH-INTERVAL;VALUE=DURATION:PT1H
X-Robots-Tag:noindex
X-PUBLISHED-TTL:PT1H
BEGIN:VTIMEZONE
TZID:America/Vancouver
BEGIN:DAYLIGHT
TZOFFSETFROM:-0800
TZOFFSETTO:-0700
TZNAME:PDT
DTSTART:20200308T100000
END:DAYLIGHT
BEGIN:STANDARD
TZOFFSETFROM:-0700
TZOFFSETTO:-0800
TZNAME:PST
DTSTART:20201101T090000
END:STANDARD
BEGIN:DAYLIGHT
TZOFFSETFROM:-0800
TZOFFSETTO:-0700
TZNAME:PDT
DTSTART:20210314T100000
END:DAYLIGHT
BEGIN:STANDARD
TZOFFSETFROM:-0700
TZOFFSETTO:-0800
TZNAME:PST
DTSTART:20211107T090000
END:STANDARD
BEGIN:DAYLIGHT
TZOFFSETFROM:-0800
TZOFFSETTO:-0700
TZNAME:PDT
DTSTART:20220313T100000
END:DAYLIGHT
BEGIN:STANDARD
TZOFFSETFROM:-0700
TZOFFSETTO:-0800
TZNAME:PST
DTSTART:20221106T090000
END:STANDARD
BEGIN:DAYLIGHT
TZOFFSETFROM:-0800
TZOFFSETTO:-0700
TZNAME:PDT
DTSTART:20230312T100000
END:DAYLIGHT
BEGIN:STANDARD
TZOFFSETFROM:-0700
TZOFFSETTO:-0800
TZNAME:PST
DTSTART:20231105T090000
END:STANDARD
BEGIN:DAYLIGHT
TZOFFSETFROM:-0800
TZOFFSETTO:-0700
TZNAME:PDT
DTSTART:20240310T100000
END:DAYLIGHT
BEGIN:STANDARD
TZOFFSETFROM:-0700
TZOFFSETTO:-0800
TZNAME:PST
DTSTART:20241103T090000
END:STANDARD
BEGIN:DAYLIGHT
TZOFFSETFROM:-0800
TZOFFSETTO:-0700
TZNAME:PDT
DTSTART:20250309T100000
END:DAYLIGHT
BEGIN:STANDARD
TZOFFSETFROM:-0700
TZOFFSETTO:-0800
TZNAME:PST
DTSTART:20251102T090000
END:STANDARD
END:VTIMEZONE
BEGIN:VEVENT
DTSTART;TZID=America/Vancouver:20240525T110000
DTEND;TZID=America/Vancouver:20240526T170000
DTSTAMP:20260423T084749
CREATED:20240528T234454Z
LAST-MODIFIED:20240528T234502Z
UID:2595-1716634800-1716742800@westendorp.com
SUMMARY:West of Main Art Walk - Artists in our Midst
DESCRIPTION:Fill your May weekend with art and community at the West of Main Art Walk! From internationally recognized artists to some of the city’snewest emerging talent\, this event is an opportunity to explore and engage with artists in their individual studios and throughout pointsin the community from Point Grey to Main Street\, and from Kitsilano to 41st Avenue.Plan your walk\, bike\, or drive to the studios at www.artistsinourmidst.com. You’ll find details on all events\, a preview of this year’s artists\,workshop information\, an online version of the 2024 map\, and everything you’ll need to enjoy a beautiful and inspiring weekend with yourcreative community!
URL:https://westendorp.com/exhibits/west-of-main-art-walk-artists-in-our-midst/
END:VEVENT
BEGIN:VEVENT
DTSTART;TZID=America/Vancouver:20231231T130000
DTEND;TZID=America/Vancouver:20231231T140000
DTSTAMP:20260423T084749
CREATED:20240528T232246Z
LAST-MODIFIED:20240528T232253Z
UID:2581-1704027600-1704031200@westendorp.com
SUMMARY:My Artwork on a Billboard in Time Square New York
DESCRIPTION:“ArtTour International: Presenting the Best of 2023 in the World of Arts.” The Art is featured on the large scale screen on Times Square on New Years Eve.
URL:https://westendorp.com/exhibits/my-artwork-on-a-billboard-in-time-square-new-york/
END:VEVENT
BEGIN:VEVENT
DTSTART;TZID=America/Vancouver:20231208T120000
DTEND;TZID=America/Vancouver:20231210T190000
DTSTAMP:20260423T084749
CREATED:20240528T230956Z
LAST-MODIFIED:20240528T232407Z
UID:2575-1702036800-1702234800@westendorp.com
SUMMARY:Gastown Pop Up Holiday Market & Live Painting
DESCRIPTION:and also December 15 to 17. \n\n\n\n\n\n\n\n \n\n\n\nUnique opportunity to buy art and artisan gifts for your loved ones at this pop up holiday market. You can experience art being created right there by numerous artist and ask them questions about their process. Listen to some holiday tunes while shopping in historic Gastown.
URL:https://westendorp.com/exhibits/gastown-pop-up-holiday-market-live-painting/
END:VEVENT
BEGIN:VEVENT
DTSTART;TZID=America/Vancouver:20231117T100000
DTEND;TZID=America/Vancouver:20231119T180000
DTSTAMP:20260423T084749
CREATED:20240528T222735Z
LAST-MODIFIED:20240528T222742Z
UID:2570-1700215200-1700416800@westendorp.com
SUMMARY:Tradex - Vancouver West Coast Women's Show 2023
DESCRIPTION:For the past 23 years this has been the largest and most successful women’s event in Western Canada with an annual average of 400 booths\, over 25\,000 visitors\, and $1.6 million in at-show spending. 
URL:https://westendorp.com/exhibits/tradex-vancouver-west-coast-womens-show-2023/
END:VEVENT
BEGIN:VEVENT
DTSTART;TZID=America/Vancouver:20231004T120000
DTEND;TZID=America/Vancouver:20231029T180000
DTSTAMP:20260423T084749
CREATED:20231005T003801Z
LAST-MODIFIED:20231005T003934Z
UID:2527-1696420800-1698602400@westendorp.com
SUMMARY:The Gallery George - True Colours
DESCRIPTION:Starting this week at the Gallery George a new exhibit with a lot of great artists and it is going to be very colorful! Reserve your ticket for the opening reception! \n\n\nRegister on Eventbrite\n\n\nLittle fun fact: there will be a small door painting you can win! Come to the reception on October 13 and enter the draw!@thegallerygeorgeLooking forward to seeing you!
URL:https://westendorp.com/exhibits/the-gallery-george-true-colours/
LOCATION:The Gallery George\, 140 West Hastings Street\, Vancouver\, British Columbia\, Canada
CATEGORIES:Art Show
ORGANIZER;CN="The Gallery George":MAILTO:Info@thegallerygeorge.com
END:VEVENT
BEGIN:VEVENT
DTSTART;TZID=America/Vancouver:20231001T080000
DTEND;TZID=America/Vancouver:20231030T170000
DTSTAMP:20260423T084749
CREATED:20231005T005812Z
LAST-MODIFIED:20231005T005818Z
UID:2532-1696147200-1698685200@westendorp.com
SUMMARY:Art @ Bentall Gallery
DESCRIPTION:The Art @ Bentall Gallery is a hub for creatives to connect and get inspired in the heart of Downtown Vancouver. The gallery is dedicated to providing immersive and accessible experiences in a variety of mediums for art lovers of all ages and backgrounds to enjoy. Its evolving roster of exhibitions\, collaborative projects\, and workshops respond to the needs of Vancouver’s growing art scene. You can see some of my pieces showcased here for the month of October.
URL:https://westendorp.com/exhibits/art-bentall-gallery-2/
LOCATION:Art @ Bentall Gallery\, 595 Burrard St #305\, Vancouver\, British Columbia\, Canada
END:VEVENT
BEGIN:VEVENT
DTSTART;TZID=America/Vancouver:20230901T000000
DTEND;TZID=America/Vancouver:20230930T235959
DTSTAMP:20260423T084749
CREATED:20230718T224522Z
LAST-MODIFIED:20230718T225001Z
UID:2471-1693526400-1696118399@westendorp.com
SUMMARY:The Celebrating Life Exhibition\, Grimandi Art Gallery\, New York
DESCRIPTION:Grimandi Art Gallery invites you their next exhibition\, “Celebrating Life.” This exhibition aims to spread awareness about mental health. We want to inspire our audience to appreciate the beauty of Life through art. Join us in this mission to spread positivity and celebrate Life! Grimandi Art Gallery is a premier fine art gallery in the heart of New York City\, with a history of showcasing top talented artists worldwide in exciting\, cutting-edge shows.  \n\n\n\nWe want to showcase works of art that express positivity\, resilience\, and the beauty of Life. We welcome diverse artistic expressions\, including paintings\, sculptures\, photographs\, mixed media\, and installations. We invite artists from all backgrounds and experience levels to submit their works. \n\n\n\nOur exhibit will promote positivity\, optimism\, and mental well-being through art. Together\, let’s celebrate Life with art at Grimandi Art Gallery! \n\n\n\nOpening Reception: September 1st 7-10 pm\n\n\n\n988 Columbus Ave\, New York\, NY 10025 
URL:https://westendorp.com/exhibits/the-celebrating-life-exhibition-at-grimandi-art-gallery-new-york/
LOCATION:Grimandi Art Gallery\, 988 Columbus Ave\, New York\, United States
END:VEVENT
BEGIN:VEVENT
DTSTART;TZID=America/Vancouver:20230710T080000
DTEND;TZID=America/Vancouver:20231016T170000
DTSTAMP:20260423T084749
CREATED:20230718T213434Z
LAST-MODIFIED:20230718T222047Z
UID:2459-1688976000-1697475600@westendorp.com
SUMMARY:Art Show in the Lobby of the Listel Hotel
DESCRIPTION:“DOORS” – OPENING RECEPTION\n\n\n\nMonday\, July 24th 2023\n\n\n\n4pm – 6pm\n\n\n\n\n\n\n\nJoin us for the Artist Meet & Greet\n\n\n\nOpening Reception in the\n\n\n\nListel Hotel Vancouver Lobby\n\n\n\nFeaturing artist: Sascha Westendorp‘DOORS’July 10th – October 16th\, 2023In the Universe there are things that are known and things that are unknown\, and in between there are doors. \n\n\n\nLISTEL HOTEL VANCOUVER \n\n\n\n1300 ROBSON STREET \n\n\n\nVANCOUVER\, BC CANADA
URL:https://westendorp.com/exhibits/art-show-in-the-lobby-of-the-listel-hotel/
LOCATION:Listel Hotel Vancouver\, 1300 Robson Street\, Vancouver\, British Columbia\, Canada
CATEGORIES:Art Show
END:VEVENT
BEGIN:VEVENT
DTSTART;TZID=America/Vancouver:20230708T103000
DTEND;TZID=America/Vancouver:20230709T235900
DTSTAMP:20260423T084749
CREATED:20230329T192721Z
LAST-MODIFIED:20230403T192327Z
UID:1732-1688812200-1688947140@westendorp.com
SUMMARY:Don’t worry Beer happy Art show at Barnside Brewery
DESCRIPTION:Art & Beer Are going to mingle!  \n\n\n\nCome by for a visit and let’s have an awesome time together!Great Venue\, great beer\, great food and awesome staff plus to Artist showing their art and skills live painting!What a package! You don’t want to miss this!@barnsidebrewing@ecrossart@sascha.creative
URL:https://westendorp.com/exhibits/dont-worry-beer-happy-art-show-at-barnside-brewery/
LOCATION:Barnside Brewery\, 6655 60 Ave\, Delta\, BC\, Canada
CATEGORIES:Art Show
ATTACH;FMTTYPE=image/jpeg:https://westendorp.com/wp-content/uploads/2023/03/IMG_2855-1.jpg
END:VEVENT
BEGIN:VEVENT
DTSTART;TZID=America/Vancouver:20230705T110000
DTEND;TZID=America/Vancouver:20230915T170000
DTSTAMP:20260423T084749
CREATED:20230330T200950Z
LAST-MODIFIED:20230330T202216Z
UID:1791-1688554800-1694797200@westendorp.com
SUMMARY:Vancouver Visual Art Foundation - Outdoor Exhibit
DESCRIPTION:Art Downtown is an outdoor summer art festival where both new and established artists are encouraged to create and sell their work in an open setting that will inspire others and change the way quality art is circulated. Located in the heart of downtown Vancouver this event includes live music. Brought to you in partnership with the Downtown Vancouver Business Improvement Association (DVBIA).  \n\n\n\nThis initiative encourages artists of all backgrounds in their quest for self-expression with various incentives and spiritual tools. We search for artists and provide them with an inclusive space to share their creations with everyone. We want artists everywhere to feel the support they need while they pursue the endeavor that has been their dream. \n\n\n\n​ \n\n\n\nFrom June to September\, artists will be presenting their work and painting techniques in the beautiful setting located at several locations in downtown Vancouver. From July – September from 11 AM till 5 PM.  \n\n\n\n​ \n\n\n\nWednesdays & Fridays at Lot 19\, 855 West Hastings
URL:https://westendorp.com/exhibits/vancouver-visual-art-foundation-outdoor-exhibit/
LOCATION:Vancouver Visual Art Foundation\, Lot 19\, 855 West Hastings\, Vancouver\, British Columbia\, Canada
CATEGORIES:Art Show
ATTACH;FMTTYPE=image/jpeg:https://westendorp.com/wp-content/uploads/2023/03/Screenshot-2023-03-30-130800.jpg
END:VEVENT
BEGIN:VEVENT
DTSTART;VALUE=DATE:20230504
DTEND;VALUE=DATE:20230508
DTSTAMP:20260423T084749
CREATED:20230310T223505Z
LAST-MODIFIED:20230330T200346Z
UID:1210-1683158400-1683503999@westendorp.com
SUMMARY:Art Vancouver 2023
DESCRIPTION:Art Vancouver 2023\nArt Vancouver is an international art fair presenting over 100 local and international galleries and artists. \nArt Vancouver provides an opportunity to view and purchase artwork from over 15 countries under one roof. \nVIP & MEDIA PREVIEW\nThursday\, May 4\, 6 PM – 7 PM \nOPENING NIGHT PREMIERE PARTY HOURS\nThursday\, May 4\, 7 PM – 11 PM \nSHOW HOURS\nFriday\, May 5\, 1 PM – 9 PM \nSaturday\, May 6\, 12 PM – 9 PM \nSunday\, May 7\, 11 AM – 5 PM \n  \nSPECIAL EVENTS\nTHURSDAY\nOPENING NIGHT PREMIERE PARTY: Join us for Art Vancouver’s opening night preview\, featuring innovative international art from over 100 galleries & artists\, DJ\, Face of Art Runway Show. \nDress code Cocktail Attire – Express yourself. \nFRIDAY\n\nART NIGHT OUT (1PM – 9 PM) – Enjoy access to Art Vancouver after work on Friday. Take your colleagues and friends\, enjoy an art night out and leave with your new masterpiece.\n\nSATURDAY & SUNDAY\n\nPANEL TALK – Listen to a panel of art professionals. Topic Artificial Intelligence (AI) Art\n\n\nART CLASSES – Have you ever wanted to try painting yourself? Don’t know where or how to start? Tried already but wasn’t happy with the results? Then this class is for you! Designed for the beginner adult (wanna-be) painter.\n\n\nART MASTERS (Saturday\, 5 PM- 8 PM) – Eight artists compete against each other and the clock. They must paint an original piece with a surprise box of supplies.\n\n\nSPEAKERS SERIES – Come join the conversation. Learn about international galleries & artists\, the process of creating art\, and more! Dates and times TBC.\n\n\nLIVE PAINTINGS – Learn\, observe\, and talk to the artist while they create a unique piece of art. Dates and times TBC.\n\n\nGUIDED TOURS – Would you like to hear more about the artists and galleries who will be exhibiting at Art Vancouver? Join us at the show this year for guided tours\, limited spaces available. Dates and times TBC.\n\nVisit our website for more information. \nNote: All programming will be dependent on the orders of the Provincial Health Officer (PHO) under the Public Health Act at the time of the event. \n  \nFAQs \nHow can I contact the organizer with any questions? \nrsvp@artvancouver.net \nDo I have to bring my printed ticket to the event? \nYou can show your ticket on your mobile phone (we will scan the QR code).
URL:https://westendorp.com/exhibits/art-vanouver-2023/
LOCATION:Vancouver Convention Centre West\, 1055 Canada Place\, Vancouver\, BC\, V6C 0C3
CATEGORIES:Art Show
ATTACH;FMTTYPE=image/jpeg:https://westendorp.com/wp-content/uploads/2023/03/ArtVancouver-International-Art-Fair.jpg
END:VEVENT
BEGIN:VEVENT
DTSTART;TZID=America/Vancouver:20230405T120000
DTEND;TZID=America/Vancouver:20230430T180000
DTSTAMP:20260423T084749
CREATED:20230324T234154Z
LAST-MODIFIED:20230419T200214Z
UID:1512-1680696000-1682877600@westendorp.com
SUMMARY:The Gallery George
DESCRIPTION:Art Exhibition “New Beginnings”  \n\n\n\n\n\nCome for a wonderful exhibit starting on April 5th. \n\n\n\nOPENING RECEPTION \n\n\n\nSaturday\, April 15th from 6-9pm\n\n\n\nmeet the artists\, sip on some wine & enjoy the April Exhibition \n\n\n\nAFTERNOON CHEER \n\n\n\nWednesday\, April 19th from 4-6:30pm\n\n\n\nMeet the artists\, enjoy the April Exhibition & some afternoon cheer10 amazing artist will showcase their work in The Gallery George’s new place.It is George the Third! It is a great location! Close to Gastown and amazing restaurants.
URL:https://westendorp.com/exhibits/the-gallery-george/
LOCATION:The Gallery George\, 140 West Hastings Street\, Vancouver\, BC\, Canada
CATEGORIES:Art Show
ATTACH;FMTTYPE=image/jpeg:https://westendorp.com/wp-content/uploads/2023/03/gallery-george.jpg
ORGANIZER;CN="The Gallery George":MAILTO:Info@thegallerygeorge.com
END:VEVENT
BEGIN:VEVENT
DTSTART;TZID=America/Vancouver:20230401T110000
DTEND;TZID=America/Vancouver:20231231T170000
DTSTAMP:20260423T084749
CREATED:20230330T221448Z
LAST-MODIFIED:20230405T224938Z
UID:1813-1680346800-1704042000@westendorp.com
SUMMARY:Stock Home Design
DESCRIPTION:local & sustainable\n\n\n\n\n\nShowcase your personality with local artists and makers that will inspire storytelling. We want to step away from traditional design and encourage creativity within your home. \n\n\n\nHome decor and gift shop in the heart of Kitsilano in Vancouver. My art is for sale here throughout the year. Beautiful decor and gifts. This store is worth a visit.
URL:https://westendorp.com/exhibits/stock-home-design/
LOCATION:Stock Home Design\, 3060 W Broadway\, Vancouver\, British Columbia\, Canada
CATEGORIES:Store
ATTACH;FMTTYPE=image/jpeg:https://westendorp.com/wp-content/uploads/2023/03/Stock-Home-Design-2023.jpg
ORGANIZER;CN="Stock Home Design":MAILTO:info@stockhomedesign.com
END:VEVENT
BEGIN:VEVENT
DTSTART;TZID=America/Vancouver:20230302T100000
DTEND;TZID=America/Vancouver:20230331T170000
DTSTAMP:20260423T084749
CREATED:20230330T203930Z
LAST-MODIFIED:20230331T022313Z
UID:1808-1677751200-1680282000@westendorp.com
SUMMARY:Art @ Bentall Gallery
DESCRIPTION:The Art @ Bentall Gallery is a hub for creatives to connect and get inspired in the heart of Downtown Vancouver. The gallery is dedicated to providing immersive and accessible experiences in a variety of mediums for art lovers of all ages and backgrounds to enjoy. Its evolving roster of exhibitions\, collaborative projects\, and workshops respond to the needs of Vancouver’s growing art scene. 
URL:https://westendorp.com/exhibits/art-bentall-gallery/
LOCATION:Art @ Bentall Gallery\, 595 Burrard Street\, Suite 305\, Vancouver\, British Columbia\, Canada
CATEGORIES:Art Show
ATTACH;FMTTYPE=image/jpeg:https://westendorp.com/wp-content/uploads/2023/03/IMG_2501.jpg
END:VEVENT
BEGIN:VEVENT
DTSTART;TZID=America/Vancouver:20221117T180000
DTEND;TZID=America/Vancouver:20221118T120000
DTSTAMP:20260423T084749
CREATED:20230330T234343Z
LAST-MODIFIED:20230330T234347Z
UID:1844-1668708000-1668772800@westendorp.com
SUMMARY:Pancakes & Booze Art Show
DESCRIPTION:One of the largest pop-up live music & arts movements to hit North America over the past decade. Celebrate our 10th year serving FREE PANCAKES and introducing you to some of the nation’s leading emerging talent.The LA based event originated in 2009 and has since popped up more than 500 times in 35+ cities around Europe & North America.Batter sizzles\, beer foams\, and canvas lines the walls from ceiling to floor as hundreds\, if not thousands\, of revelers indulge in endless pancakes and live music.This is no stuffy wine-and-cheese\, pretentious\, someone-gag-me art event. It’s an innovative reimagining of the art show concept. A welcoming vibe for up-and-coming artists and musicians to strut their stuff in a free verse\, anything goes environment.
URL:https://westendorp.com/exhibits/pancakes-booze-art-show/
LOCATION:Fortune Sound Club\, 147 E Pender St\, Vancouver\, British Columbia\, Canada
ATTACH;FMTTYPE=image/jpeg:https://westendorp.com/wp-content/uploads/2023/03/IMG_1662.jpg
END:VEVENT
BEGIN:VEVENT
DTSTART;TZID=America/Vancouver:20221005T080000
DTEND;TZID=America/Vancouver:20221030T170000
DTSTAMP:20260423T084749
CREATED:20230330T232535Z
LAST-MODIFIED:20230330T232540Z
UID:1841-1664956800-1667149200@westendorp.com
SUMMARY:The Gallery George
DESCRIPTION:True Colors\n\n\n\n\n\nA group exhibition at the Gallery George including a live painting event. The door painting I presented was raffled off and the proceeds were donated to BC Mental Health Foundation.
URL:https://westendorp.com/exhibits/the-gallery-george-2/
ATTACH;FMTTYPE=image/jpeg:https://westendorp.com/wp-content/uploads/2023/03/IMG_1461.jpg
END:VEVENT
BEGIN:VEVENT
DTSTART;TZID=America/Vancouver:20220813T110000
DTEND;TZID=America/Vancouver:20220813T180000
DTSTAMP:20260423T084749
CREATED:20230331T011643Z
LAST-MODIFIED:20230331T011647Z
UID:1884-1660388400-1660413600@westendorp.com
SUMMARY:INTERNATIONAL POLO FESTIVAL VANCOUVER
DESCRIPTION:Outdoor exhibit.
URL:https://westendorp.com/exhibits/international-polo-festival-vancouver/
ATTACH;FMTTYPE=image/jpeg:https://westendorp.com/wp-content/uploads/2023/03/IMG_0761.jpg
END:VEVENT
BEGIN:VEVENT
DTSTART;TZID=America/Vancouver:20220807T130000
DTEND;TZID=America/Vancouver:20220807T190000
DTSTAMP:20260423T084749
CREATED:20230331T010214Z
LAST-MODIFIED:20230331T010219Z
UID:1881-1659877200-1659898800@westendorp.com
SUMMARY:Granville Promenade
DESCRIPTION:This year’s outdoor festival is free to the public thanks to the support of community sponsor Telus Mobility. Attendees of Granville Promenade will enjoy live music\, street entertainment\, patios\, art\, and markets.
URL:https://westendorp.com/exhibits/granville-promenade/
CATEGORIES:Live Painting
ATTACH;FMTTYPE=image/jpeg:https://westendorp.com/wp-content/uploads/2023/03/IMG_9179.jpg
END:VEVENT
BEGIN:VEVENT
DTSTART;TZID=America/Vancouver:20220721T180000
DTEND;TZID=America/Vancouver:20220721T233000
DTSTAMP:20260423T084749
CREATED:20230331T004407Z
LAST-MODIFIED:20230331T004411Z
UID:1874-1658426400-1658446200@westendorp.com
SUMMARY:Pancake & Booze Art Show
DESCRIPTION:One of the largest pop-up live music & arts movements to hit North America over the past decade. Celebrate our 10th year serving FREE PANCAKES and introducing you to some of the nation’s leading emerging talent.
URL:https://westendorp.com/exhibits/pancake-booze-art-show/
LOCATION:Fortune Sound Club
ATTACH;FMTTYPE=image/jpeg:https://westendorp.com/wp-content/uploads/2023/03/IMG_0363.jpg
END:VEVENT
BEGIN:VEVENT
DTSTART;TZID=America/Vancouver:20220717T130000
DTEND;TZID=America/Vancouver:20220717T170000
DTSTAMP:20260423T084749
CREATED:20230331T002801Z
LAST-MODIFIED:20230331T002805Z
UID:1863-1658062800-1658077200@westendorp.com
SUMMARY:Opera in the Park
DESCRIPTION:Live Painting and Exhibit during Opera performance.
URL:https://westendorp.com/exhibits/opera-in-the-park/
LOCATION:Deer Lake Park\, 6450 Deer Lake Ave\, Burnaby\, Canada
ATTACH;FMTTYPE=image/jpeg:https://westendorp.com/wp-content/uploads/2023/03/IMG_0522.jpg
END:VEVENT
BEGIN:VEVENT
DTSTART;TZID=America/Vancouver:20220708T110000
DTEND;TZID=America/Vancouver:20220916T170000
DTSTAMP:20260423T084749
CREATED:20230406T003003Z
LAST-MODIFIED:20230406T004447Z
UID:2097-1657278000-1663347600@westendorp.com
SUMMARY:Vancouver Visual Art Foundation – Outdoor Exhibit
DESCRIPTION:Art Downtown is an outdoor summer art festival where both new and established artists are encouraged to create and sell their work in an open setting that will inspire others and change the way quality art is circulated. Located in the heart of downtown Vancouver this event includes live music. Brought to you in partnership with the Downtown Vancouver Business Improvement Association (DVBIA).  \n\n\n\nThis initiative encourages artists of all backgrounds in their quest for self-expression with various incentives and spiritual tools. We search for artists and provide them with an inclusive space to share their creations with everyone. We want artists everywhere to feel the support they need while they pursue the endeavor that has been their dream. \n\n\n\n​ \n\n\n\nFrom June to September\, artists will be presenting their work and painting techniques in the beautiful setting located at several locations in downtown Vancouver. From July – September from 11 AM till 5 PM.  \n\n\n\n​
URL:https://westendorp.com/exhibits/vancouver-visual-art-foundation-outdoor-exhibit-2/
CATEGORIES:Art Show
ATTACH;FMTTYPE=image/jpeg:https://westendorp.com/wp-content/uploads/2023/04/IMG_0873.jpg
END:VEVENT
BEGIN:VEVENT
DTSTART;TZID=America/Vancouver:20220611T110000
DTEND;TZID=America/Vancouver:20220612T170000
DTSTAMP:20260423T084749
CREATED:20230331T000832Z
LAST-MODIFIED:20230331T000836Z
UID:1855-1654945200-1655053200@westendorp.com
SUMMARY:Don’t worry Beer happy Art Show
DESCRIPTION:Fun event with a great turnout. Great Beer\, food and Art and wonderful crowd.
URL:https://westendorp.com/exhibits/dont-worry-beer-happy-art-show/
LOCATION:Barnside Brewery\, 6655 60 Ave\, Delta\, British Columbia\, Canada
ATTACH;FMTTYPE=image/jpeg:https://westendorp.com/wp-content/uploads/2023/03/IMG_0521.jpg
END:VEVENT
BEGIN:VEVENT
DTSTART;TZID=America/Vancouver:20220408T100000
DTEND;TZID=America/Vancouver:20220429T170000
DTSTAMP:20260423T084749
CREATED:20230406T005251Z
LAST-MODIFIED:20230406T005713Z
UID:2104-1649412000-1651251600@westendorp.com
SUMMARY:Art show amongst the masters at Chali-Rosso Art Gallery
DESCRIPTION:Art show with Live painting event. Was a humbling feeling to have my art mingling with these great Masters. \n\n\n\nChali-Rosso Art Gallery has been dealing with art by historical and modern masters since 2005. The collection is primarily focused on works on paper of the most well known Modern Masters\, such as Pablo PICASSO\, Salvador DALÍ\, Marc CHAGALL\, Joan MIRÓ and Henri MATISSE. In addition\, we also offer works by REMBRANDT van Rijn\, Pierre-Auguste RENOIR\, Edgar DEGAS\,  Andy WARHOL\, Roy LICHTENSTEIN and a variety of others.
URL:https://westendorp.com/exhibits/art-show-amongst-the-masters-at-chali-rosso-art-gallery/
CATEGORIES:Art Show
ATTACH;FMTTYPE=image/jpeg:https://westendorp.com/wp-content/uploads/2023/04/IMG_0770.jpg
END:VEVENT
BEGIN:VEVENT
DTSTART;TZID=America/Vancouver:20220314T130000
DTEND;TZID=America/Vancouver:20220314T170000
DTSTAMP:20260423T084749
CREATED:20230406T000310Z
LAST-MODIFIED:20230406T000314Z
UID:2084-1647262800-1647277200@westendorp.com
SUMMARY:Live Painting at Chali - Rosso Art Gallery
DESCRIPTION:Live painting event with exhibiting some of my pieces in the Chali – Rosso Art Gallery \n\n\n\nChali-Rosso Art Gallery has been dealing with art by historical and modern masters since 2005. The collection is primarily focused on works on paper of the most well known Modern Masters\, such as Pablo PICASSO\, Salvador DALÍ\, Marc CHAGALL\, Joan MIRÓ and Henri MATISSE. In addition\, we also offer works by REMBRANDT van Rijn\, Pierre-Auguste RENOIR\, Edgar DEGAS\,  Andy WARHOL\, Roy LICHTENSTEIN and a variety of others. \n\n\n\nAll of the artwork we offer is ORIGINAL and accompanied by meticulous documentation & certificate of authenticity thus assuring clients of the value of their acquisition. \n\n\n\nChali-Rosso Gallery stands behind all of its artwork as original\, providing a life-time guarantee.
URL:https://westendorp.com/exhibits/live-painting-at-chali-rosso-art-gallery/
LOCATION:V6C 3G3 Canada\, 312-999 Canada Place\, Vancouver\, British Columbia\, V6C 3G3\, Canada
CATEGORIES:Live Painting
ATTACH;FMTTYPE=image/jpeg:https://westendorp.com/wp-content/uploads/2023/04/IMG_0387.jpg
ORGANIZER;CN="CHALI-ROSSO ART GALLERY":MAILTO:gallery@chalirosso.com
END:VEVENT
BEGIN:VEVENT
DTSTART;TZID=America/Vancouver:20220227T080000
DTEND;TZID=America/Vancouver:20230227T170000
DTSTAMP:20260423T084749
CREATED:20230406T002310Z
LAST-MODIFIED:20230406T002315Z
UID:2094-1645948800-1677517200@westendorp.com
SUMMARY:Le HangArt Montreal
DESCRIPTION:The Gallery showcased some of my pieces from February 2022 to 2023.
URL:https://westendorp.com/exhibits/le-hangart-montreal/
ATTACH;FMTTYPE=image/jpeg:https://westendorp.com/wp-content/uploads/2023/04/lehang-Montreal.jpg
END:VEVENT
BEGIN:VEVENT
DTSTART;TZID=America/Vancouver:20220201T080000
DTEND;TZID=America/Vancouver:20230228T170000
DTSTAMP:20260423T084749
CREATED:20230406T001458Z
LAST-MODIFIED:20230406T001502Z
UID:2091-1643702400-1677603600@westendorp.com
SUMMARY:Le HangArt Toronto
DESCRIPTION:The Gallery showcased some of my pieces for the year of 2022.
URL:https://westendorp.com/exhibits/le-hangart-toronto/
ATTACH;FMTTYPE=image/jpeg:https://westendorp.com/wp-content/uploads/2023/04/Screenshot-2023-04-05-171337.jpg
END:VEVENT
BEGIN:VEVENT
DTSTART;TZID=America/Vancouver:20210604T110000
DTEND;TZID=America/Vancouver:20210827T170000
DTSTAMP:20260423T084749
CREATED:20230406T003835Z
LAST-MODIFIED:20230406T003838Z
UID:2100-1622804400-1630083600@westendorp.com
SUMMARY:Vancouver Visual Art Foundation – Outdoor Exhibit
DESCRIPTION:Art Downtown is an outdoor summer art festival where both new and established artists are encouraged to create and sell their work in an open setting that will inspire others and change the way quality art is circulated. Located in the heart of downtown Vancouver this event includes live music. Brought to you in partnership with the Downtown Vancouver Business Improvement Association (DVBIA).  \n\n\n\nThis initiative encourages artists of all backgrounds in their quest for self-expression with various incentives and spiritual tools. We search for artists and provide them with an inclusive space to share their creations with everyone. We want artists everywhere to feel the support they need while they pursue the endeavor that has been their dream. \n\n\n\n​
URL:https://westendorp.com/exhibits/vancouver-visual-art-foundation-outdoor-exhibit-3/
ATTACH;FMTTYPE=image/jpeg:https://westendorp.com/wp-content/uploads/2023/04/IMG_8634.jpg
END:VEVENT
END:VCALENDAR